BEGIN:VCALENDAR
VERSION:2.0
PRODID:-//RuKuKu - ECPv6.15.15//NONSGML v1.0//EN
CALSCALE:GREGORIAN
METHOD:PUBLISH
X-ORIGINAL-URL:https://rukuku.at
X-WR-CALDESC:Veranstaltungen für RuKuKu
REFRESH-INTERVAL;VALUE=DURATION:PT1H
X-Robots-Tag:noindex
X-PUBLISHED-TTL:PT1H
BEGIN:VTIMEZONE
TZID:UTC
BEGIN:STANDARD
TZOFFSETFROM:+0000
TZOFFSETTO:+0000
TZNAME:UTC
DTSTART:20250101T000000
END:STANDARD
END:VTIMEZONE
BEGIN:VEVENT
DTSTART;TZID=UTC:20260225T180000
DTEND;TZID=UTC:20260225T200000
DTSTAMP:20260421T094330
CREATED:20260224T174045Z
LAST-MODIFIED:20260224T174045Z
UID:805-1772042400-1772049600@rukuku.at
SUMMARY:Konsumdialog Fast Fashion
DESCRIPTION:
URL:https://rukuku.at/event/konsumdialog-fast-fashion/
LOCATION:Pfarrsaal Dörnbach\, Wilhering
CATEGORIES:Vortrag
END:VEVENT
END:VCALENDAR